Workbook

Sheet 推薦書
D3: ＊黄色セルは必ず入力が必要な箇所です。
D6: 強度行動障害支援者養成研修＜基礎＞受講推薦書
D8: ・推薦書は法人単位で作成してください。
D9: ・提出は必ず下記URLの申請フォームからこの推薦書をアップロードしてください。
D10: https://logoform.jp/form/WEVN/1835559
D12: 法人名
D13: 電話番号
D14: 申込担当者
D15: 推薦人数 | G15: 1 | T15: ＊推薦人数の数値に応じて下表の入力セルが現れます。
D17: 推薦者の情報
D18: 優先 順位 | E18: 受講者氏名 | G18: 生年月日 （西暦） | H18: 所属事業所名 | I18: 主なサービス種別 | J18: その他 （サービス種別） | K18: 必要な配慮 | L18: その他 （配慮） | M18: 行動障害の状態にある者への支援経験年数 | O18: 障害福祉サービス事業所等での通算支援経験年数 | Q18: 研修受講 対象者区分 （詳細は別紙参照） | R18: 受講年度 （西暦）
E19: 氏 | F19: 名 | M19: 年 | N19: 月 | O19: 年 | P19: 月
D20: COL01 | E20: COL02 | F20: COL03 | G20: COL04 | H20: COL05 | I20: COL06 | J20: COL07 | K20: COL08 | L20: COL09 | M20: COL10 | N20: COL11 | O20: COL12 | P20: COL13 | Q20: COL14 | R20: COL15
D21: 1
D22: 2
D23: 3
D24: 4
D25: 5
D26: 6
D27: 7
D28: 8
D29: 9
D30: 10
D31: 11
D32: 12
... D120: 100
D122: ＊ | E122: ＊ | F122: ＊ | G122: ＊ | H122: ＊ | I122: ＊ | J122: ＊ | K122: ＊ | L122: ＊ | M122: ＊ | N122: ＊ | O122: ＊ | P122: ＊ | Q122: ＊ | R122: ＊

Sheet 別紙
A1: 別紙
A3: 研修受講対象者区分
A5: ア： | B5: 独立行政法人国立重度知的障害者総合施設のぞみの園等が実施する強度行動障害支援者養成研修（基礎研修）指導者養成研修修了者
B6: ＊この要件に該当する場合は、修了証等の写しを添付すること
A7: イ： | B7: 和歌山県行動障害支援者養成研修（連続研修）又は和歌山県強度行動障害支援施設・職員養成研修（連続研修）受講者
A8: ウ： | B8: 平成２８、２９、３０年度、令和元年度和歌山県強度行動障害支援者養成研修（基礎研修）プレ研修受講者
A9: エ： | B9: その他（上記に該当しないもの）

Sheet 抽出用シート
C2: COL01 | D2: COL02 | E2: COL03 | F2: COL04 | G2: COL05 | H2: COL06 | I2: COL07 | J2: COL08 | K2: COL09 | L2: COL10 | M2: COL11 | N2: COL12 | O2: COL13 | P2: COL14 | Q2: COL15
C4: 優先順位 | D4: 氏 | E4: 名 | F4: 生年月日（西暦） | G4: 所属事業所名 | H4: 主なサービス種別 | I4: その他（サービス種別） | J4: 必要な配慮 | K4: その他（配慮） | L4: 行動障害のある者への支援経験年数＿年 | M4: 行動障害のある者への支援経験年数＿月 | N4: 障害福祉サービス事業所等での通算支援経験年数＿年 | O4: 障害福祉サービス事業所等での通算支援経験年数＿月 | P4: 対象者区分 | Q4: 受講年度
C5: 1 | D5: =VLOOKUP(推薦者T[[#This Row],[優先順位]],推薦書!$D$20:$R$120,MATCH(抽出用シート!D$2,推薦書!$D$20:$R$20,0),FALSE) -> 0 | E5: =VLOOKUP(推薦者T[[#This Row],[優先順位]],推薦書!$D$20:$R$120,MATCH(抽出用シート!E$2,推薦書!$D$20:$R$20,0),FALSE) -> 0 | F5: =VLOOKUP(推薦者T[[#This Row],[優先順位]],推薦書!$D$20:$R$120,MATCH(抽出用シート!F$2,推薦書!$D$20:$R$20,0),FALSE) -> 0 | G5: =VLOOKUP(推薦者T[[#This Row],[優先順位]],推薦書!$D$20:$R$120,MATCH(抽出用シート!G$2,推薦書!$D$20:$R$20,0),FALSE) -> 0 | H5: =VLOOKUP(推薦者T[[#This Row],[優先順位]],推薦書!$D$20:$R$120,MATCH(抽出用シート!H$2,推薦書!$D$20:$R$20,0),FALSE) -> 0 | I5: =VLOOKUP(推薦者T[[#This Row],[優先順位]],推薦書!$D$20:$R$120,MATCH(抽出用シート!I$2,推薦書!$D$20:$R$20,0),FALSE) -> 0 | J5: =VLOOKUP(推薦者T[[#This Row],[優先順位]],推薦書!$D$20:$R$120,MATCH(抽出用シート!J$2,推薦書!$D$20:$R$20,0),FALSE) -> 0 | K5: =VLOOKUP(推薦者T[[#This Row],[優先順位]],推薦書!$D$20:$R$120,MATCH(抽出用シート!K$2,推薦書!$D$20:$R$20,0),FALSE) -> 0 | ... Q5: =VLOOKUP(推薦者T[[#This Row],[優先順位]],推薦書!$D$20:$R$120,MATCH(抽出用シート!Q$2,推薦書!$D$20:$R$20,0),FALSE) -> 0
C6: 2 | D6: =VLOOKUP(推薦者T[[#This Row],[優先順位]],推薦書!$D$20:$R$120,MATCH(抽出用シート!D$2,推薦書!$D$20:$R$20,0),FALSE) -> 0 | E6: =VLOOKUP(推薦者T[[#This Row],[優先順位]],推薦書!$D$20:$R$120,MATCH(抽出用シート!E$2,推薦書!$D$20:$R$20,0),FALSE) -> 0 | F6: =VLOOKUP(推薦者T[[#This Row],[優先順位]],推薦書!$D$20:$R$120,MATCH(抽出用シート!F$2,推薦書!$D$20:$R$20,0),FALSE) -> 0 | G6: =VLOOKUP(推薦者T[[#This Row],[優先順位]],推薦書!$D$20:$R$120,MATCH(抽出用シート!G$2,推薦書!$D$20:$R$20,0),FALSE) -> 0 | H6: =VLOOKUP(推薦者T[[#This Row],[優先順位]],推薦書!$D$20:$R$120,MATCH(抽出用シート!H$2,推薦書!$D$20:$R$20,0),FALSE) -> 0 | I6: =VLOOKUP(推薦者T[[#This Row],[優先順位]],推薦書!$D$20:$R$120,MATCH(抽出用シート!I$2,推薦書!$D$20:$R$20,0),FALSE) -> 0 | J6: =VLOOKUP(推薦者T[[#This Row],[優先順位]],推薦書!$D$20:$R$120,MATCH(抽出用シート!J$2,推薦書!$D$20:$R$20,0),FALSE) -> 0 | K6: =VLOOKUP(推薦者T[[#This Row],[優先順位]],推薦書!$D$20:$R$120,MATCH(抽出用シート!K$2,推薦書!$D$20:$R$20,0),FALSE) -> 0 | ... Q6: =VLOOKUP(推薦者T[[#This Row],[優先順位]],推薦書!$D$20:$R$120,MATCH(抽出用シート!Q$2,推薦書!$D$20:$R$20,0),FALSE) -> 0
C7: 3 | D7: =VLOOKUP(推薦者T[[#This Row],[優先順位]],推薦書!$D$20:$R$120,MATCH(抽出用シート!D$2,推薦書!$D$20:$R$20,0),FALSE) -> 0 | E7: =VLOOKUP(推薦者T[[#This Row],[優先順位]],推薦書!$D$20:$R$120,MATCH(抽出用シート!E$2,推薦書!$D$20:$R$20,0),FALSE) -> 0 | F7: =VLOOKUP(推薦者T[[#This Row],[優先順位]],推薦書!$D$20:$R$120,MATCH(抽出用シート!F$2,推薦書!$D$20:$R$20,0),FALSE) -> 0 | G7: =VLOOKUP(推薦者T[[#This Row],[優先順位]],推薦書!$D$20:$R$120,MATCH(抽出用シート!G$2,推薦書!$D$20:$R$20,0),FALSE) -> 0 | H7: =VLOOKUP(推薦者T[[#This Row],[優先順位]],推薦書!$D$20:$R$120,MATCH(抽出用シート!H$2,推薦書!$D$20:$R$20,0),FALSE) -> 0 | I7: =VLOOKUP(推薦者T[[#This Row],[優先順位]],推薦書!$D$20:$R$120,MATCH(抽出用シート!I$2,推薦書!$D$20:$R$20,0),FALSE) -> 0 | J7: =VLOOKUP(推薦者T[[#This Row],[優先順位]],推薦書!$D$20:$R$120,MATCH(抽出用シート!J$2,推薦書!$D$20:$R$20,0),FALSE) -> 0 | K7: =VLOOKUP(推薦者T[[#This Row],[優先順位]],推薦書!$D$20:$R$120,MATCH(抽出用シート!K$2,推薦書!$D$20:$R$20,0),FALSE) -> 0 | ... Q7: =VLOOKUP(推薦者T[[#This Row],[優先順位]],推薦書!$D$20:$R$120,MATCH(抽出用シート!Q$2,推薦書!$D$20:$R$20,0),FALSE) -> 0
C8: 4 | D8: =VLOOKUP(推薦者T[[#This Row],[優先順位]],推薦書!$D$20:$R$120,MATCH(抽出用シート!D$2,推薦書!$D$20:$R$20,0),FALSE) -> 0 | E8: =VLOOKUP(推薦者T[[#This Row],[優先順位]],推薦書!$D$20:$R$120,MATCH(抽出用シート!E$2,推薦書!$D$20:$R$20,0),FALSE) -> 0 | F8: =VLOOKUP(推薦者T[[#This Row],[優先順位]],推薦書!$D$20:$R$120,MATCH(抽出用シート!F$2,推薦書!$D$20:$R$20,0),FALSE) -> 0 | G8: =VLOOKUP(推薦者T[[#This Row],[優先順位]],推薦書!$D$20:$R$120,MATCH(抽出用シート!G$2,推薦書!$D$20:$R$20,0),FALSE) -> 0 | H8: =VLOOKUP(推薦者T[[#This Row],[優先順位]],推薦書!$D$20:$R$120,MATCH(抽出用シート!H$2,推薦書!$D$20:$R$20,0),FALSE) -> 0 | I8: =VLOOKUP(推薦者T[[#This Row],[優先順位]],推薦書!$D$20:$R$120,MATCH(抽出用シート!I$2,推薦書!$D$20:$R$20,0),FALSE) -> 0 | J8: =VLOOKUP(推薦者T[[#This Row],[優先順位]],推薦書!$D$20:$R$120,MATCH(抽出用シート!J$2,推薦書!$D$20:$R$20,0),FALSE) -> 0 | K8: =VLOOKUP(推薦者T[[#This Row],[優先順位]],推薦書!$D$20:$R$120,MATCH(抽出用シート!K$2,推薦書!$D$20:$R$20,0),FALSE) -> 0 | ... Q8: =VLOOKUP(推薦者T[[#This Row],[優先順位]],推薦書!$D$20:$R$120,MATCH(抽出用シート!Q$2,推薦書!$D$20:$R$20,0),FALSE) -> 0
C9: 5 | D9: =VLOOKUP(推薦者T[[#This Row],[優先順位]],推薦書!$D$20:$R$120,MATCH(抽出用シート!D$2,推薦書!$D$20:$R$20,0),FALSE) -> 0 | E9: =VLOOKUP(推薦者T[[#This Row],[優先順位]],推薦書!$D$20:$R$120,MATCH(抽出用シート!E$2,推薦書!$D$20:$R$20,0),FALSE) -> 0 | F9: =VLOOKUP(推薦者T[[#This Row],[優先順位]],推薦書!$D$20:$R$120,MATCH(抽出用シート!F$2,推薦書!$D$20:$R$20,0),FALSE) -> 0 | G9: =VLOOKUP(推薦者T[[#This Row],[優先順位]],推薦書!$D$20:$R$120,MATCH(抽出用シート!G$2,推薦書!$D$20:$R$20,0),FALSE) -> 0 | H9: =VLOOKUP(推薦者T[[#This Row],[優先順位]],推薦書!$D$20:$R$120,MATCH(抽出用シート!H$2,推薦書!$D$20:$R$20,0),FALSE) -> 0 | I9: =VLOOKUP(推薦者T[[#This Row],[優先順位]],推薦書!$D$20:$R$120,MATCH(抽出用シート!I$2,推薦書!$D$20:$R$20,0),FALSE) -> 0 | J9: =VLOOKUP(推薦者T[[#This Row],[優先順位]],推薦書!$D$20:$R$120,MATCH(抽出用シート!J$2,推薦書!$D$20:$R$20,0),FALSE) -> 0 | K9: =VLOOKUP(推薦者T[[#This Row],[優先順位]],推薦書!$D$20:$R$120,MATCH(抽出用シート!K$2,推薦書!$D$20:$R$20,0),FALSE) -> 0 | ... Q9: =VLOOKUP(推薦者T[[#This Row],[優先順位]],推薦書!$D$20:$R$120,MATCH(抽出用シート!Q$2,推薦書!$D$20:$R$20,0),FALSE) -> 0
C10: 6 | D10: =VLOOKUP(推薦者T[[#This Row],[優先順位]],推薦書!$D$20:$R$120,MATCH(抽出用シート!D$2,推薦書!$D$20:$R$20,0),FALSE) -> 0 | E10: =VLOOKUP(推薦者T[[#This Row],[優先順位]],推薦書!$D$20:$R$120,MATCH(抽出用シート!E$2,推薦書!$D$20:$R$20,0),FALSE) -> 0 | F10: =VLOOKUP(推薦者T[[#This Row],[優先順位]],推薦書!$D$20:$R$120,MATCH(抽出用シート!F$2,推薦書!$D$20:$R$20,0),FALSE) -> 0 | G10: =VLOOKUP(推薦者T[[#This Row],[優先順位]],推薦書!$D$20:$R$120,MATCH(抽出用シート!G$2,推薦書!$D$20:$R$20,0),FALSE) -> 0 | H10: =VLOOKUP(推薦者T[[#This Row],[優先順位]],推薦書!$D$20:$R$120,MATCH(抽出用シート!H$2,推薦書!$D$20:$R$20,0),FALSE) -> 0 | I10: =VLOOKUP(推薦者T[[#This Row],[優先順位]],推薦書!$D$20:$R$120,MATCH(抽出用シート!I$2,推薦書!$D$20:$R$20,0),FALSE) -> 0 | J10: =VLOOKUP(推薦者T[[#This Row],[優先順位]],推薦書!$D$20:$R$120,MATCH(抽出用シート!J$2,推薦書!$D$20:$R$20,0),FALSE) -> 0 | K10: =VLOOKUP(推薦者T[[#This Row],[優先順位]],推薦書!$D$20:$R$120,MATCH(抽出用シート!K$2,推薦書!$D$20:$R$20,0),FALSE) -> 0 | ... Q10: =VLOOKUP(推薦者T[[#This Row],[優先順位]],推薦書!$D$20:$R$120,MATCH(抽出用シート!Q$2,推薦書!$D$20:$R$20,0),FALSE) -> 0
C11: 7 | D11: =VLOOKUP(推薦者T[[#This Row],[優先順位]],推薦書!$D$20:$R$120,MATCH(抽出用シート!D$2,推薦書!$D$20:$R$20,0),FALSE) -> 0 | E11: =VLOOKUP(推薦者T[[#This Row],[優先順位]],推薦書!$D$20:$R$120,MATCH(抽出用シート!E$2,推薦書!$D$20:$R$20,0),FALSE) -> 0 | F11: =VLOOKUP(推薦者T[[#This Row],[優先順位]],推薦書!$D$20:$R$120,MATCH(抽出用シート!F$2,推薦書!$D$20:$R$20,0),FALSE) -> 0 | G11: =VLOOKUP(推薦者T[[#This Row],[優先順位]],推薦書!$D$20:$R$120,MATCH(抽出用シート!G$2,推薦書!$D$20:$R$20,0),FALSE) -> 0 | H11: =VLOOKUP(推薦者T[[#This Row],[優先順位]],推薦書!$D$20:$R$120,MATCH(抽出用シート!H$2,推薦書!$D$20:$R$20,0),FALSE) -> 0 | I11: =VLOOKUP(推薦者T[[#This Row],[優先順位]],推薦書!$D$20:$R$120,MATCH(抽出用シート!I$2,推薦書!$D$20:$R$20,0),FALSE) -> 0 | J11: =VLOOKUP(推薦者T[[#This Row],[優先順位]],推薦書!$D$20:$R$120,MATCH(抽出用シート!J$2,推薦書!$D$20:$R$20,0),FALSE) -> 0 | K11: =VLOOKUP(推薦者T[[#This Row],[優先順位]],推薦書!$D$20:$R$120,MATCH(抽出用シート!K$2,推薦書!$D$20:$R$20,0),FALSE) -> 0 | ... Q11: =VLOOKUP(推薦者T[[#This Row],[優先順位]],推薦書!$D$20:$R$120,MATCH(抽出用シート!Q$2,推薦書!$D$20:$R$20,0),FALSE) -> 0
C12: 8 | D12: =VLOOKUP(推薦者T[[#This Row],[優先順位]],推薦書!$D$20:$R$120,MATCH(抽出用シート!D$2,推薦書!$D$20:$R$20,0),FALSE) -> 0 | E12: =VLOOKUP(推薦者T[[#This Row],[優先順位]],推薦書!$D$20:$R$120,MATCH(抽出用シート!E$2,推薦書!$D$20:$R$20,0),FALSE) -> 0 | F12: =VLOOKUP(推薦者T[[#This Row],[優先順位]],推薦書!$D$20:$R$120,MATCH(抽出用シート!F$2,推薦書!$D$20:$R$20,0),FALSE) -> 0 | G12: =VLOOKUP(推薦者T[[#This Row],[優先順位]],推薦書!$D$20:$R$120,MATCH(抽出用シート!G$2,推薦書!$D$20:$R$20,0),FALSE) -> 0 | H12: =VLOOKUP(推薦者T[[#This Row],[優先順位]],推薦書!$D$20:$R$120,MATCH(抽出用シート!H$2,推薦書!$D$20:$R$20,0),FALSE) -> 0 | I12: =VLOOKUP(推薦者T[[#This Row],[優先順位]],推薦書!$D$20:$R$120,MATCH(抽出用シート!I$2,推薦書!$D$20:$R$20,0),FALSE) -> 0 | J12: =VLOOKUP(推薦者T[[#This Row],[優先順位]],推薦書!$D$20:$R$120,MATCH(抽出用シート!J$2,推薦書!$D$20:$R$20,0),FALSE) -> 0 | K12: =VLOOKUP(推薦者T[[#This Row],[優先順位]],推薦書!$D$20:$R$120,MATCH(抽出用シート!K$2,推薦書!$D$20:$R$20,0),FALSE) -> 0 | ... Q12: =VLOOKUP(推薦者T[[#This Row],[優先順位]],推薦書!$D$20:$R$120,MATCH(抽出用シート!Q$2,推薦書!$D$20:$R$20,0),FALSE) -> 0
C13: 9 | D13: =VLOOKUP(推薦者T[[#This Row],[優先順位]],推薦書!$D$20:$R$120,MATCH(抽出用シート!D$2,推薦書!$D$20:$R$20,0),FALSE) -> 0 | E13: =VLOOKUP(推薦者T[[#This Row],[優先順位]],推薦書!$D$20:$R$120,MATCH(抽出用シート!E$2,推薦書!$D$20:$R$20,0),FALSE) -> 0 | F13: =VLOOKUP(推薦者T[[#This Row],[優先順位]],推薦書!$D$20:$R$120,MATCH(抽出用シート!F$2,推薦書!$D$20:$R$20,0),FALSE) -> 0 | G13: =VLOOKUP(推薦者T[[#This Row],[優先順位]],推薦書!$D$20:$R$120,MATCH(抽出用シート!G$2,推薦書!$D$20:$R$20,0),FALSE) -> 0 | H13: =VLOOKUP(推薦者T[[#This Row],[優先順位]],推薦書!$D$20:$R$120,MATCH(抽出用シート!H$2,推薦書!$D$20:$R$20,0),FALSE) -> 0 | I13: =VLOOKUP(推薦者T[[#This Row],[優先順位]],推薦書!$D$20:$R$120,MATCH(抽出用シート!I$2,推薦書!$D$20:$R$20,0),FALSE) -> 0 | J13: =VLOOKUP(推薦者T[[#This Row],[優先順位]],推薦書!$D$20:$R$120,MATCH(抽出用シート!J$2,推薦書!$D$20:$R$20,0),FALSE) -> 0 | K13: =VLOOKUP(推薦者T[[#This Row],[優先順位]],推薦書!$D$20:$R$120,MATCH(抽出用シート!K$2,推薦書!$D$20:$R$20,0),FALSE) -> 0 | ... Q13: =VLOOKUP(推薦者T[[#This Row],[優先順位]],推薦書!$D$20:$R$120,MATCH(抽出用シート!Q$2,推薦書!$D$20:$R$20,0),FALSE) -> 0
C14: 10 | D14: =VLOOKUP(推薦者T[[#This Row],[優先順位]],推薦書!$D$20:$R$120,MATCH(抽出用シート!D$2,推薦書!$D$20:$R$20,0),FALSE) -> 0 | E14: =VLOOKUP(推薦者T[[#This Row],[優先順位]],推薦書!$D$20:$R$120,MATCH(抽出用シート!E$2,推薦書!$D$20:$R$20,0),FALSE) -> 0 | F14: =VLOOKUP(推薦者T[[#This Row],[優先順位]],推薦書!$D$20:$R$120,MATCH(抽出用シート!F$2,推薦書!$D$20:$R$20,0),FALSE) -> 0 | G14: =VLOOKUP(推薦者T[[#This Row],[優先順位]],推薦書!$D$20:$R$120,MATCH(抽出用シート!G$2,推薦書!$D$20:$R$20,0),FALSE) -> 0 | H14: =VLOOKUP(推薦者T[[#This Row],[優先順位]],推薦書!$D$20:$R$120,MATCH(抽出用シート!H$2,推薦書!$D$20:$R$20,0),FALSE) -> 0 | I14: =VLOOKUP(推薦者T[[#This Row],[優先順位]],推薦書!$D$20:$R$120,MATCH(抽出用シート!I$2,推薦書!$D$20:$R$20,0),FALSE) -> 0 | J14: =VLOOKUP(推薦者T[[#This Row],[優先順位]],推薦書!$D$20:$R$120,MATCH(抽出用シート!J$2,推薦書!$D$20:$R$20,0),FALSE) -> 0 | K14: =VLOOKUP(推薦者T[[#This Row],[優先順位]],推薦書!$D$20:$R$120,MATCH(抽出用シート!K$2,推薦書!$D$20:$R$20,0),FALSE) -> 0 | ... Q14: =VLOOKUP(推薦者T[[#This Row],[優先順位]],推薦書!$D$20:$R$120,MATCH(抽出用シート!Q$2,推薦書!$D$20:$R$20,0),FALSE) -> 0
C15: 11 | D15: =VLOOKUP(推薦者T[[#This Row],[優先順位]],推薦書!$D$20:$R$120,MATCH(抽出用シート!D$2,推薦書!$D$20:$R$20,0),FALSE) -> 0 | E15: =VLOOKUP(推薦者T[[#This Row],[優先順位]],推薦書!$D$20:$R$120,MATCH(抽出用シート!E$2,推薦書!$D$20:$R$20,0),FALSE) -> 0 | F15: =VLOOKUP(推薦者T[[#This Row],[優先順位]],推薦書!$D$20:$R$120,MATCH(抽出用シート!F$2,推薦書!$D$20:$R$20,0),FALSE) -> 0 | G15: =VLOOKUP(推薦者T[[#This Row],[優先順位]],推薦書!$D$20:$R$120,MATCH(抽出用シート!G$2,推薦書!$D$20:$R$20,0),FALSE) -> 0 | H15: =VLOOKUP(推薦者T[[#This Row],[優先順位]],推薦書!$D$20:$R$120,MATCH(抽出用シート!H$2,推薦書!$D$20:$R$20,0),FALSE) -> 0 | I15: =VLOOKUP(推薦者T[[#This Row],[優先順位]],推薦書!$D$20:$R$120,MATCH(抽出用シート!I$2,推薦書!$D$20:$R$20,0),FALSE) -> 0 | J15: =VLOOKUP(推薦者T[[#This Row],[優先順位]],推薦書!$D$20:$R$120,MATCH(抽出用シート!J$2,推薦書!$D$20:$R$20,0),FALSE) -> 0 | K15: =VLOOKUP(推薦者T[[#This Row],[優先順位]],推薦書!$D$20:$R$120,MATCH(抽出用シート!K$2,推薦書!$D$20:$R$20,0),FALSE) -> 0 | ... Q15: =VLOOKUP(推薦者T[[#This Row],[優先順位]],推薦書!$D$20:$R$120,MATCH(抽出用シート!Q$2,推薦書!$D$20:$R$20,0),FALSE) -> 0
C16: 12 | D16: =VLOOKUP(推薦者T[[#This Row],[優先順位]],推薦書!$D$20:$R$120,MATCH(抽出用シート!D$2,推薦書!$D$20:$R$20,0),FALSE) -> 0 | E16: =VLOOKUP(推薦者T[[#This Row],[優先順位]],推薦書!$D$20:$R$120,MATCH(抽出用シート!E$2,推薦書!$D$20:$R$20,0),FALSE) -> 0 | F16: =VLOOKUP(推薦者T[[#This Row],[優先順位]],推薦書!$D$20:$R$120,MATCH(抽出用シート!F$2,推薦書!$D$20:$R$20,0),FALSE) -> 0 | G16: =VLOOKUP(推薦者T[[#This Row],[優先順位]],推薦書!$D$20:$R$120,MATCH(抽出用シート!G$2,推薦書!$D$20:$R$20,0),FALSE) -> 0 | H16: =VLOOKUP(推薦者T[[#This Row],[優先順位]],推薦書!$D$20:$R$120,MATCH(抽出用シート!H$2,推薦書!$D$20:$R$20,0),FALSE) -> 0 | I16: =VLOOKUP(推薦者T[[#This Row],[優先順位]],推薦書!$D$20:$R$120,MATCH(抽出用シート!I$2,推薦書!$D$20:$R$20,0),FALSE) -> 0 | J16: =VLOOKUP(推薦者T[[#This Row],[優先順位]],推薦書!$D$20:$R$120,MATCH(抽出用シート!J$2,推薦書!$D$20:$R$20,0),FALSE) -> 0 | K16: =VLOOKUP(推薦者T[[#This Row],[優先順位]],推薦書!$D$20:$R$120,MATCH(抽出用シート!K$2,推薦書!$D$20:$R$20,0),FALSE) -> 0 | ... Q16: =VLOOKUP(推薦者T[[#This Row],[優先順位]],推薦書!$D$20:$R$120,MATCH(抽出用シート!Q$2,推薦書!$D$20:$R$20,0),FALSE) -> 0
... C104: 100 | D104: =VLOOKUP(推薦者T[[#This Row],[優先順位]],推薦書!$D$20:$R$120,MATCH(抽出用シート!D$2,推薦書!$D$20:$R$20,0),FALSE) -> 0 | E104: =VLOOKUP(推薦者T[[#This Row],[優先順位]],推薦書!$D$20:$R$120,MATCH(抽出用シート!E$2,推薦書!$D$20:$R$20,0),FALSE) -> 0 | F104: =VLOOKUP(推薦者T[[#This Row],[優先順位]],推薦書!$D$20:$R$120,MATCH(抽出用シート!F$2,推薦書!$D$20:$R$20,0),FALSE) -> 0 | G104: =VLOOKUP(推薦者T[[#This Row],[優先順位]],推薦書!$D$20:$R$120,MATCH(抽出用シート!G$2,推薦書!$D$20:$R$20,0),FALSE) -> 0 | H104: =VLOOKUP(推薦者T[[#This Row],[優先順位]],推薦書!$D$20:$R$120,MATCH(抽出用シート!H$2,推薦書!$D$20:$R$20,0),FALSE) -> 0 | I104: =VLOOKUP(推薦者T[[#This Row],[優先順位]],推薦書!$D$20:$R$120,MATCH(抽出用シート!I$2,推薦書!$D$20:$R$20,0),FALSE) -> 0 | J104: =VLOOKUP(推薦者T[[#This Row],[優先順位]],推薦書!$D$20:$R$120,MATCH(抽出用シート!J$2,推薦書!$D$20:$R$20,0),FALSE) -> 0 | K104: =VLOOKUP(推薦者T[[#This Row],[優先順位]],推薦書!$D$20:$R$120,MATCH(抽出用シート!K$2,推薦書!$D$20:$R$20,0),FALSE) -> 0 | ... Q104: =VLOOKUP(推薦者T[[#This Row],[優先順位]],推薦書!$D$20:$R$120,MATCH(抽出用シート!Q$2,推薦書!$D$20:$R$20,0),FALSE) -> 0

Sheet 設定
C2: 主なサービス種別 | E2: 必要な配慮 | G2: 研修受講対象区分
C3: 施設入所支援（障害者支援施設） | E3: 手話通訳 | G3: ア
C4: 短期入所 | E4: 要約筆記 | G4: イ
C5: 共同生活援助（ｸﾞﾙｰﾌﾟﾎｰﾑ） | E5: その他 | G5: ウ
C6: 療養介護 | E6: 特になし | G6: エ
C7: 生活介護
C8: 福祉型障害児入所支援
C9: 児童発達支援
C10: 放課後等デイサービス
C11: 行動援護
C12: 重度訪問介護
C13: 計画相談支援
C14: 障害児相談支援
C15: その他
