Workbook

Sheet 申込書
B2: ＜別紙様式＞
B3: 令和８年度和歌山県障害支援区分認定調査員・市町村審査会委員現任研修 受 講 推 薦 書
I4: 令和 年 月 日
B5: 和歌山県福祉保健部福祉保健政策局障害福祉課長 様
B7: 標記研修の受講者として次の者を受講させたいので推薦します。
G9: 所 属 長 （ 担当課等所属長 ）
G10: 担 当 者
G11: 担 当 者 メ ー ル ア ド レ ス
B12: ※ 情報保障等、特別な配慮が必要な場合は事前にご相談ください。
B13: Nｏ. | C13: 氏名 | D13: ふりがな | E13: 生年月日 | F13: 法 人 名 （市町村名） | G13: 事業所名 （市町村担当課名） | H13: 従事する業務の種類 【審査会委員、認定調査員、行政職員】 （プルダウンから選択） | I13: 備考 (研修受講の際の配慮事項)
B14: 1
B15: =B14+1 -> 2
B16: =B15+1 -> 3
B17: =B16+1 -> 4
B18: =B17+1 -> 5
B19: =B18+1 -> 6
B20: =B19+1 -> 7
B21: =B20+1 -> 8
B22: =B21+1 -> 9
B23: =B22+1 -> 10
B24: =B23+1 -> 11
B25: =B24+1 -> 12
B26: =B25+1 -> 13
... B28: =B27+1 -> 15

Sheet 抽出用シート
A1: Nｏ. | B1: 氏名 | C1: ふりがな | D1: 生年月日 | E1: 法 人 名 （市町村名） | F1: 事業所名 （市町村担当課名） | G1: 従事する業務の種類 【審査会委員、認定調査員、行政職員】 （プルダウンから選択） | H1: 備考 (研修受講の際の配慮事項)
A3: Nｏ. | B3: 氏名 | C3: ふりがな | D3: 生年月日 | E3: 法 人 名 （市町村名） | F3: 事業所名 （市町村担当課名） | G3: 従事する業務の種類 【審査会委員、認定調査員、行政職員】 （プルダウンから選択） | H3: 備考 (研修受講の際の配慮事項) | J3: 申込データ抽出用シート
A4: 1 | B4: =IF(VLOOKUP($A4,申込書!$B$13:$I$28,MATCH(B$1,申込書!$B$13:$I$13,0),FALSE)=0,"",VLOOKUP($A4,申込書!$B$13:$I$28,MATCH(B$1,申込書!$B$13:$I$13,0),FALSE)) | C4: =IF(VLOOKUP($A4,申込書!$B$13:$I$28,MATCH(C$1,申込書!$B$13:$I$13,0),FALSE)=0,"",VLOOKUP($A4,申込書!$B$13:$I$28,MATCH(C$1,申込書!$B$13:$I$13,0),FALSE)) | D4: =IF(VLOOKUP($A4,申込書!$B$13:$I$28,MATCH(D$1,申込書!$B$13:$I$13,0),FALSE)=0,"",VLOOKUP($A4,申込書!$B$13:$I$28,MATCH(D$1,申込書!$B$13:$I$13,0),FALSE)) | E4: =IF(VLOOKUP($A4,申込書!$B$13:$I$28,MATCH(E$1,申込書!$B$13:$I$13,0),FALSE)=0,"",VLOOKUP($A4,申込書!$B$13:$I$28,MATCH(E$1,申込書!$B$13:$I$13,0),FALSE)) | F4: =IF(VLOOKUP($A4,申込書!$B$13:$I$28,MATCH(F$1,申込書!$B$13:$I$13,0),FALSE)=0,"",VLOOKUP($A4,申込書!$B$13:$I$28,MATCH(F$1,申込書!$B$13:$I$13,0),FALSE)) | G4: =IF(VLOOKUP($A4,申込書!$B$13:$I$28,MATCH(G$1,申込書!$B$13:$I$13,0),FALSE)=0,"",VLOOKUP($A4,申込書!$B$13:$I$28,MATCH(G$1,申込書!$B$13:$I$13,0),FALSE)) | H4: =IF(VLOOKUP($A4,申込書!$B$13:$I$28,MATCH(H$1,申込書!$B$13:$I$13,0),FALSE)=0,"",VLOOKUP($A4,申込書!$B$13:$I$28,MATCH(H$1,申込書!$B$13:$I$13,0),FALSE))
A5: 2 | B5: =IF(VLOOKUP($A5,申込書!$B$13:$I$28,MATCH(B$1,申込書!$B$13:$I$13,0),FALSE)=0,"",VLOOKUP($A5,申込書!$B$13:$I$28,MATCH(B$1,申込書!$B$13:$I$13,0),FALSE)) | C5: =IF(VLOOKUP($A5,申込書!$B$13:$I$28,MATCH(C$1,申込書!$B$13:$I$13,0),FALSE)=0,"",VLOOKUP($A5,申込書!$B$13:$I$28,MATCH(C$1,申込書!$B$13:$I$13,0),FALSE)) | D5: =IF(VLOOKUP($A5,申込書!$B$13:$I$28,MATCH(D$1,申込書!$B$13:$I$13,0),FALSE)=0,"",VLOOKUP($A5,申込書!$B$13:$I$28,MATCH(D$1,申込書!$B$13:$I$13,0),FALSE)) | E5: =IF(VLOOKUP($A5,申込書!$B$13:$I$28,MATCH(E$1,申込書!$B$13:$I$13,0),FALSE)=0,"",VLOOKUP($A5,申込書!$B$13:$I$28,MATCH(E$1,申込書!$B$13:$I$13,0),FALSE)) | F5: =IF(VLOOKUP($A5,申込書!$B$13:$I$28,MATCH(F$1,申込書!$B$13:$I$13,0),FALSE)=0,"",VLOOKUP($A5,申込書!$B$13:$I$28,MATCH(F$1,申込書!$B$13:$I$13,0),FALSE)) | G5: =IF(VLOOKUP($A5,申込書!$B$13:$I$28,MATCH(G$1,申込書!$B$13:$I$13,0),FALSE)=0,"",VLOOKUP($A5,申込書!$B$13:$I$28,MATCH(G$1,申込書!$B$13:$I$13,0),FALSE)) | H5: =IF(VLOOKUP($A5,申込書!$B$13:$I$28,MATCH(H$1,申込書!$B$13:$I$13,0),FALSE)=0,"",VLOOKUP($A5,申込書!$B$13:$I$28,MATCH(H$1,申込書!$B$13:$I$13,0),FALSE))
A6: 3 | B6: =IF(VLOOKUP($A6,申込書!$B$13:$I$28,MATCH(B$1,申込書!$B$13:$I$13,0),FALSE)=0,"",VLOOKUP($A6,申込書!$B$13:$I$28,MATCH(B$1,申込書!$B$13:$I$13,0),FALSE)) | C6: =IF(VLOOKUP($A6,申込書!$B$13:$I$28,MATCH(C$1,申込書!$B$13:$I$13,0),FALSE)=0,"",VLOOKUP($A6,申込書!$B$13:$I$28,MATCH(C$1,申込書!$B$13:$I$13,0),FALSE)) | D6: =IF(VLOOKUP($A6,申込書!$B$13:$I$28,MATCH(D$1,申込書!$B$13:$I$13,0),FALSE)=0,"",VLOOKUP($A6,申込書!$B$13:$I$28,MATCH(D$1,申込書!$B$13:$I$13,0),FALSE)) | E6: =IF(VLOOKUP($A6,申込書!$B$13:$I$28,MATCH(E$1,申込書!$B$13:$I$13,0),FALSE)=0,"",VLOOKUP($A6,申込書!$B$13:$I$28,MATCH(E$1,申込書!$B$13:$I$13,0),FALSE)) | F6: =IF(VLOOKUP($A6,申込書!$B$13:$I$28,MATCH(F$1,申込書!$B$13:$I$13,0),FALSE)=0,"",VLOOKUP($A6,申込書!$B$13:$I$28,MATCH(F$1,申込書!$B$13:$I$13,0),FALSE)) | G6: =IF(VLOOKUP($A6,申込書!$B$13:$I$28,MATCH(G$1,申込書!$B$13:$I$13,0),FALSE)=0,"",VLOOKUP($A6,申込書!$B$13:$I$28,MATCH(G$1,申込書!$B$13:$I$13,0),FALSE)) | H6: =IF(VLOOKUP($A6,申込書!$B$13:$I$28,MATCH(H$1,申込書!$B$13:$I$13,0),FALSE)=0,"",VLOOKUP($A6,申込書!$B$13:$I$28,MATCH(H$1,申込書!$B$13:$I$13,0),FALSE))
A7: 4 | B7: =IF(VLOOKUP($A7,申込書!$B$13:$I$28,MATCH(B$1,申込書!$B$13:$I$13,0),FALSE)=0,"",VLOOKUP($A7,申込書!$B$13:$I$28,MATCH(B$1,申込書!$B$13:$I$13,0),FALSE)) | C7: =IF(VLOOKUP($A7,申込書!$B$13:$I$28,MATCH(C$1,申込書!$B$13:$I$13,0),FALSE)=0,"",VLOOKUP($A7,申込書!$B$13:$I$28,MATCH(C$1,申込書!$B$13:$I$13,0),FALSE)) | D7: =IF(VLOOKUP($A7,申込書!$B$13:$I$28,MATCH(D$1,申込書!$B$13:$I$13,0),FALSE)=0,"",VLOOKUP($A7,申込書!$B$13:$I$28,MATCH(D$1,申込書!$B$13:$I$13,0),FALSE)) | E7: =IF(VLOOKUP($A7,申込書!$B$13:$I$28,MATCH(E$1,申込書!$B$13:$I$13,0),FALSE)=0,"",VLOOKUP($A7,申込書!$B$13:$I$28,MATCH(E$1,申込書!$B$13:$I$13,0),FALSE)) | F7: =IF(VLOOKUP($A7,申込書!$B$13:$I$28,MATCH(F$1,申込書!$B$13:$I$13,0),FALSE)=0,"",VLOOKUP($A7,申込書!$B$13:$I$28,MATCH(F$1,申込書!$B$13:$I$13,0),FALSE)) | G7: =IF(VLOOKUP($A7,申込書!$B$13:$I$28,MATCH(G$1,申込書!$B$13:$I$13,0),FALSE)=0,"",VLOOKUP($A7,申込書!$B$13:$I$28,MATCH(G$1,申込書!$B$13:$I$13,0),FALSE)) | H7: =IF(VLOOKUP($A7,申込書!$B$13:$I$28,MATCH(H$1,申込書!$B$13:$I$13,0),FALSE)=0,"",VLOOKUP($A7,申込書!$B$13:$I$28,MATCH(H$1,申込書!$B$13:$I$13,0),FALSE))
A8: 5 | B8: =IF(VLOOKUP($A8,申込書!$B$13:$I$28,MATCH(B$1,申込書!$B$13:$I$13,0),FALSE)=0,"",VLOOKUP($A8,申込書!$B$13:$I$28,MATCH(B$1,申込書!$B$13:$I$13,0),FALSE)) | C8: =IF(VLOOKUP($A8,申込書!$B$13:$I$28,MATCH(C$1,申込書!$B$13:$I$13,0),FALSE)=0,"",VLOOKUP($A8,申込書!$B$13:$I$28,MATCH(C$1,申込書!$B$13:$I$13,0),FALSE)) | D8: =IF(VLOOKUP($A8,申込書!$B$13:$I$28,MATCH(D$1,申込書!$B$13:$I$13,0),FALSE)=0,"",VLOOKUP($A8,申込書!$B$13:$I$28,MATCH(D$1,申込書!$B$13:$I$13,0),FALSE)) | E8: =IF(VLOOKUP($A8,申込書!$B$13:$I$28,MATCH(E$1,申込書!$B$13:$I$13,0),FALSE)=0,"",VLOOKUP($A8,申込書!$B$13:$I$28,MATCH(E$1,申込書!$B$13:$I$13,0),FALSE)) | F8: =IF(VLOOKUP($A8,申込書!$B$13:$I$28,MATCH(F$1,申込書!$B$13:$I$13,0),FALSE)=0,"",VLOOKUP($A8,申込書!$B$13:$I$28,MATCH(F$1,申込書!$B$13:$I$13,0),FALSE)) | G8: =IF(VLOOKUP($A8,申込書!$B$13:$I$28,MATCH(G$1,申込書!$B$13:$I$13,0),FALSE)=0,"",VLOOKUP($A8,申込書!$B$13:$I$28,MATCH(G$1,申込書!$B$13:$I$13,0),FALSE)) | H8: =IF(VLOOKUP($A8,申込書!$B$13:$I$28,MATCH(H$1,申込書!$B$13:$I$13,0),FALSE)=0,"",VLOOKUP($A8,申込書!$B$13:$I$28,MATCH(H$1,申込書!$B$13:$I$13,0),FALSE))
A9: 6 | B9: =IF(VLOOKUP($A9,申込書!$B$13:$I$28,MATCH(B$1,申込書!$B$13:$I$13,0),FALSE)=0,"",VLOOKUP($A9,申込書!$B$13:$I$28,MATCH(B$1,申込書!$B$13:$I$13,0),FALSE)) | C9: =IF(VLOOKUP($A9,申込書!$B$13:$I$28,MATCH(C$1,申込書!$B$13:$I$13,0),FALSE)=0,"",VLOOKUP($A9,申込書!$B$13:$I$28,MATCH(C$1,申込書!$B$13:$I$13,0),FALSE)) | D9: =IF(VLOOKUP($A9,申込書!$B$13:$I$28,MATCH(D$1,申込書!$B$13:$I$13,0),FALSE)=0,"",VLOOKUP($A9,申込書!$B$13:$I$28,MATCH(D$1,申込書!$B$13:$I$13,0),FALSE)) | E9: =IF(VLOOKUP($A9,申込書!$B$13:$I$28,MATCH(E$1,申込書!$B$13:$I$13,0),FALSE)=0,"",VLOOKUP($A9,申込書!$B$13:$I$28,MATCH(E$1,申込書!$B$13:$I$13,0),FALSE)) | F9: =IF(VLOOKUP($A9,申込書!$B$13:$I$28,MATCH(F$1,申込書!$B$13:$I$13,0),FALSE)=0,"",VLOOKUP($A9,申込書!$B$13:$I$28,MATCH(F$1,申込書!$B$13:$I$13,0),FALSE)) | G9: =IF(VLOOKUP($A9,申込書!$B$13:$I$28,MATCH(G$1,申込書!$B$13:$I$13,0),FALSE)=0,"",VLOOKUP($A9,申込書!$B$13:$I$28,MATCH(G$1,申込書!$B$13:$I$13,0),FALSE)) | H9: =IF(VLOOKUP($A9,申込書!$B$13:$I$28,MATCH(H$1,申込書!$B$13:$I$13,0),FALSE)=0,"",VLOOKUP($A9,申込書!$B$13:$I$28,MATCH(H$1,申込書!$B$13:$I$13,0),FALSE))
A10: 7 | B10: =IF(VLOOKUP($A10,申込書!$B$13:$I$28,MATCH(B$1,申込書!$B$13:$I$13,0),FALSE)=0,"",VLOOKUP($A10,申込書!$B$13:$I$28,MATCH(B$1,申込書!$B$13:$I$13,0),FALSE)) | C10: =IF(VLOOKUP($A10,申込書!$B$13:$I$28,MATCH(C$1,申込書!$B$13:$I$13,0),FALSE)=0,"",VLOOKUP($A10,申込書!$B$13:$I$28,MATCH(C$1,申込書!$B$13:$I$13,0),FALSE)) | D10: =IF(VLOOKUP($A10,申込書!$B$13:$I$28,MATCH(D$1,申込書!$B$13:$I$13,0),FALSE)=0,"",VLOOKUP($A10,申込書!$B$13:$I$28,MATCH(D$1,申込書!$B$13:$I$13,0),FALSE)) | E10: =IF(VLOOKUP($A10,申込書!$B$13:$I$28,MATCH(E$1,申込書!$B$13:$I$13,0),FALSE)=0,"",VLOOKUP($A10,申込書!$B$13:$I$28,MATCH(E$1,申込書!$B$13:$I$13,0),FALSE)) | F10: =IF(VLOOKUP($A10,申込書!$B$13:$I$28,MATCH(F$1,申込書!$B$13:$I$13,0),FALSE)=0,"",VLOOKUP($A10,申込書!$B$13:$I$28,MATCH(F$1,申込書!$B$13:$I$13,0),FALSE)) | G10: =IF(VLOOKUP($A10,申込書!$B$13:$I$28,MATCH(G$1,申込書!$B$13:$I$13,0),FALSE)=0,"",VLOOKUP($A10,申込書!$B$13:$I$28,MATCH(G$1,申込書!$B$13:$I$13,0),FALSE)) | H10: =IF(VLOOKUP($A10,申込書!$B$13:$I$28,MATCH(H$1,申込書!$B$13:$I$13,0),FALSE)=0,"",VLOOKUP($A10,申込書!$B$13:$I$28,MATCH(H$1,申込書!$B$13:$I$13,0),FALSE))
A11: 8 | B11: =IF(VLOOKUP($A11,申込書!$B$13:$I$28,MATCH(B$1,申込書!$B$13:$I$13,0),FALSE)=0,"",VLOOKUP($A11,申込書!$B$13:$I$28,MATCH(B$1,申込書!$B$13:$I$13,0),FALSE)) | C11: =IF(VLOOKUP($A11,申込書!$B$13:$I$28,MATCH(C$1,申込書!$B$13:$I$13,0),FALSE)=0,"",VLOOKUP($A11,申込書!$B$13:$I$28,MATCH(C$1,申込書!$B$13:$I$13,0),FALSE)) | D11: =IF(VLOOKUP($A11,申込書!$B$13:$I$28,MATCH(D$1,申込書!$B$13:$I$13,0),FALSE)=0,"",VLOOKUP($A11,申込書!$B$13:$I$28,MATCH(D$1,申込書!$B$13:$I$13,0),FALSE)) | E11: =IF(VLOOKUP($A11,申込書!$B$13:$I$28,MATCH(E$1,申込書!$B$13:$I$13,0),FALSE)=0,"",VLOOKUP($A11,申込書!$B$13:$I$28,MATCH(E$1,申込書!$B$13:$I$13,0),FALSE)) | F11: =IF(VLOOKUP($A11,申込書!$B$13:$I$28,MATCH(F$1,申込書!$B$13:$I$13,0),FALSE)=0,"",VLOOKUP($A11,申込書!$B$13:$I$28,MATCH(F$1,申込書!$B$13:$I$13,0),FALSE)) | G11: =IF(VLOOKUP($A11,申込書!$B$13:$I$28,MATCH(G$1,申込書!$B$13:$I$13,0),FALSE)=0,"",VLOOKUP($A11,申込書!$B$13:$I$28,MATCH(G$1,申込書!$B$13:$I$13,0),FALSE)) | H11: =IF(VLOOKUP($A11,申込書!$B$13:$I$28,MATCH(H$1,申込書!$B$13:$I$13,0),FALSE)=0,"",VLOOKUP($A11,申込書!$B$13:$I$28,MATCH(H$1,申込書!$B$13:$I$13,0),FALSE))
A12: 9 | B12: =IF(VLOOKUP($A12,申込書!$B$13:$I$28,MATCH(B$1,申込書!$B$13:$I$13,0),FALSE)=0,"",VLOOKUP($A12,申込書!$B$13:$I$28,MATCH(B$1,申込書!$B$13:$I$13,0),FALSE)) | C12: =IF(VLOOKUP($A12,申込書!$B$13:$I$28,MATCH(C$1,申込書!$B$13:$I$13,0),FALSE)=0,"",VLOOKUP($A12,申込書!$B$13:$I$28,MATCH(C$1,申込書!$B$13:$I$13,0),FALSE)) | D12: =IF(VLOOKUP($A12,申込書!$B$13:$I$28,MATCH(D$1,申込書!$B$13:$I$13,0),FALSE)=0,"",VLOOKUP($A12,申込書!$B$13:$I$28,MATCH(D$1,申込書!$B$13:$I$13,0),FALSE)) | E12: =IF(VLOOKUP($A12,申込書!$B$13:$I$28,MATCH(E$1,申込書!$B$13:$I$13,0),FALSE)=0,"",VLOOKUP($A12,申込書!$B$13:$I$28,MATCH(E$1,申込書!$B$13:$I$13,0),FALSE)) | F12: =IF(VLOOKUP($A12,申込書!$B$13:$I$28,MATCH(F$1,申込書!$B$13:$I$13,0),FALSE)=0,"",VLOOKUP($A12,申込書!$B$13:$I$28,MATCH(F$1,申込書!$B$13:$I$13,0),FALSE)) | G12: =IF(VLOOKUP($A12,申込書!$B$13:$I$28,MATCH(G$1,申込書!$B$13:$I$13,0),FALSE)=0,"",VLOOKUP($A12,申込書!$B$13:$I$28,MATCH(G$1,申込書!$B$13:$I$13,0),FALSE)) | H12: =IF(VLOOKUP($A12,申込書!$B$13:$I$28,MATCH(H$1,申込書!$B$13:$I$13,0),FALSE)=0,"",VLOOKUP($A12,申込書!$B$13:$I$28,MATCH(H$1,申込書!$B$13:$I$13,0),FALSE))
A13: 10 | B13: =IF(VLOOKUP($A13,申込書!$B$13:$I$28,MATCH(B$1,申込書!$B$13:$I$13,0),FALSE)=0,"",VLOOKUP($A13,申込書!$B$13:$I$28,MATCH(B$1,申込書!$B$13:$I$13,0),FALSE)) | C13: =IF(VLOOKUP($A13,申込書!$B$13:$I$28,MATCH(C$1,申込書!$B$13:$I$13,0),FALSE)=0,"",VLOOKUP($A13,申込書!$B$13:$I$28,MATCH(C$1,申込書!$B$13:$I$13,0),FALSE)) | D13: =IF(VLOOKUP($A13,申込書!$B$13:$I$28,MATCH(D$1,申込書!$B$13:$I$13,0),FALSE)=0,"",VLOOKUP($A13,申込書!$B$13:$I$28,MATCH(D$1,申込書!$B$13:$I$13,0),FALSE)) | E13: =IF(VLOOKUP($A13,申込書!$B$13:$I$28,MATCH(E$1,申込書!$B$13:$I$13,0),FALSE)=0,"",VLOOKUP($A13,申込書!$B$13:$I$28,MATCH(E$1,申込書!$B$13:$I$13,0),FALSE)) | F13: =IF(VLOOKUP($A13,申込書!$B$13:$I$28,MATCH(F$1,申込書!$B$13:$I$13,0),FALSE)=0,"",VLOOKUP($A13,申込書!$B$13:$I$28,MATCH(F$1,申込書!$B$13:$I$13,0),FALSE)) | G13: =IF(VLOOKUP($A13,申込書!$B$13:$I$28,MATCH(G$1,申込書!$B$13:$I$13,0),FALSE)=0,"",VLOOKUP($A13,申込書!$B$13:$I$28,MATCH(G$1,申込書!$B$13:$I$13,0),FALSE)) | H13: =IF(VLOOKUP($A13,申込書!$B$13:$I$28,MATCH(H$1,申込書!$B$13:$I$13,0),FALSE)=0,"",VLOOKUP($A13,申込書!$B$13:$I$28,MATCH(H$1,申込書!$B$13:$I$13,0),FALSE))
A14: 11 | B14: =IF(VLOOKUP($A14,申込書!$B$13:$I$28,MATCH(B$1,申込書!$B$13:$I$13,0),FALSE)=0,"",VLOOKUP($A14,申込書!$B$13:$I$28,MATCH(B$1,申込書!$B$13:$I$13,0),FALSE)) | C14: =IF(VLOOKUP($A14,申込書!$B$13:$I$28,MATCH(C$1,申込書!$B$13:$I$13,0),FALSE)=0,"",VLOOKUP($A14,申込書!$B$13:$I$28,MATCH(C$1,申込書!$B$13:$I$13,0),FALSE)) | D14: =IF(VLOOKUP($A14,申込書!$B$13:$I$28,MATCH(D$1,申込書!$B$13:$I$13,0),FALSE)=0,"",VLOOKUP($A14,申込書!$B$13:$I$28,MATCH(D$1,申込書!$B$13:$I$13,0),FALSE)) | E14: =IF(VLOOKUP($A14,申込書!$B$13:$I$28,MATCH(E$1,申込書!$B$13:$I$13,0),FALSE)=0,"",VLOOKUP($A14,申込書!$B$13:$I$28,MATCH(E$1,申込書!$B$13:$I$13,0),FALSE)) | F14: =IF(VLOOKUP($A14,申込書!$B$13:$I$28,MATCH(F$1,申込書!$B$13:$I$13,0),FALSE)=0,"",VLOOKUP($A14,申込書!$B$13:$I$28,MATCH(F$1,申込書!$B$13:$I$13,0),FALSE)) | G14: =IF(VLOOKUP($A14,申込書!$B$13:$I$28,MATCH(G$1,申込書!$B$13:$I$13,0),FALSE)=0,"",VLOOKUP($A14,申込書!$B$13:$I$28,MATCH(G$1,申込書!$B$13:$I$13,0),FALSE)) | H14: =IF(VLOOKUP($A14,申込書!$B$13:$I$28,MATCH(H$1,申込書!$B$13:$I$13,0),FALSE)=0,"",VLOOKUP($A14,申込書!$B$13:$I$28,MATCH(H$1,申込書!$B$13:$I$13,0),FALSE))
A15: 12 | B15: =IF(VLOOKUP($A15,申込書!$B$13:$I$28,MATCH(B$1,申込書!$B$13:$I$13,0),FALSE)=0,"",VLOOKUP($A15,申込書!$B$13:$I$28,MATCH(B$1,申込書!$B$13:$I$13,0),FALSE)) | C15: =IF(VLOOKUP($A15,申込書!$B$13:$I$28,MATCH(C$1,申込書!$B$13:$I$13,0),FALSE)=0,"",VLOOKUP($A15,申込書!$B$13:$I$28,MATCH(C$1,申込書!$B$13:$I$13,0),FALSE)) | D15: =IF(VLOOKUP($A15,申込書!$B$13:$I$28,MATCH(D$1,申込書!$B$13:$I$13,0),FALSE)=0,"",VLOOKUP($A15,申込書!$B$13:$I$28,MATCH(D$1,申込書!$B$13:$I$13,0),FALSE)) | E15: =IF(VLOOKUP($A15,申込書!$B$13:$I$28,MATCH(E$1,申込書!$B$13:$I$13,0),FALSE)=0,"",VLOOKUP($A15,申込書!$B$13:$I$28,MATCH(E$1,申込書!$B$13:$I$13,0),FALSE)) | F15: =IF(VLOOKUP($A15,申込書!$B$13:$I$28,MATCH(F$1,申込書!$B$13:$I$13,0),FALSE)=0,"",VLOOKUP($A15,申込書!$B$13:$I$28,MATCH(F$1,申込書!$B$13:$I$13,0),FALSE)) | G15: =IF(VLOOKUP($A15,申込書!$B$13:$I$28,MATCH(G$1,申込書!$B$13:$I$13,0),FALSE)=0,"",VLOOKUP($A15,申込書!$B$13:$I$28,MATCH(G$1,申込書!$B$13:$I$13,0),FALSE)) | H15: =IF(VLOOKUP($A15,申込書!$B$13:$I$28,MATCH(H$1,申込書!$B$13:$I$13,0),FALSE)=0,"",VLOOKUP($A15,申込書!$B$13:$I$28,MATCH(H$1,申込書!$B$13:$I$13,0),FALSE))
... A18: 15 | B18: =IF(VLOOKUP($A18,申込書!$B$13:$I$28,MATCH(B$1,申込書!$B$13:$I$13,0),FALSE)=0,"",VLOOKUP($A18,申込書!$B$13:$I$28,MATCH(B$1,申込書!$B$13:$I$13,0),FALSE)) | C18: =IF(VLOOKUP($A18,申込書!$B$13:$I$28,MATCH(C$1,申込書!$B$13:$I$13,0),FALSE)=0,"",VLOOKUP($A18,申込書!$B$13:$I$28,MATCH(C$1,申込書!$B$13:$I$13,0),FALSE)) | D18: =IF(VLOOKUP($A18,申込書!$B$13:$I$28,MATCH(D$1,申込書!$B$13:$I$13,0),FALSE)=0,"",VLOOKUP($A18,申込書!$B$13:$I$28,MATCH(D$1,申込書!$B$13:$I$13,0),FALSE)) | E18: =IF(VLOOKUP($A18,申込書!$B$13:$I$28,MATCH(E$1,申込書!$B$13:$I$13,0),FALSE)=0,"",VLOOKUP($A18,申込書!$B$13:$I$28,MATCH(E$1,申込書!$B$13:$I$13,0),FALSE)) | F18: =IF(VLOOKUP($A18,申込書!$B$13:$I$28,MATCH(F$1,申込書!$B$13:$I$13,0),FALSE)=0,"",VLOOKUP($A18,申込書!$B$13:$I$28,MATCH(F$1,申込書!$B$13:$I$13,0),FALSE)) | G18: =IF(VLOOKUP($A18,申込書!$B$13:$I$28,MATCH(G$1,申込書!$B$13:$I$13,0),FALSE)=0,"",VLOOKUP($A18,申込書!$B$13:$I$28,MATCH(G$1,申込書!$B$13:$I$13,0),FALSE)) | H18: =IF(VLOOKUP($A18,申込書!$B$13:$I$28,MATCH(H$1,申込書!$B$13:$I$13,0),FALSE)=0,"",VLOOKUP($A18,申込書!$B$13:$I$28,MATCH(H$1,申込書!$B$13:$I$13,0),FALSE))
